BEGIN:VCALENDAR
VERSION:2.0
PRODID:-//KnowWake - ECPv5.16.1.1//NONSGML v1.0//EN
CALSCALE:GREGORIAN
METHOD:PUBLISH
X-ORIGINAL-URL:https://www.knowwake.com
X-WR-CALDESC:Events for KnowWake
REFRESH-INTERVAL;VALUE=DURATION:PT1H
X-Robots-Tag:noindex
X-PUBLISHED-TTL:PT1H
BEGIN:VTIMEZONE
TZID:America/New_York
BEGIN:DAYLIGHT
TZOFFSETFROM:-0500
TZOFFSETTO:-0400
TZNAME:EDT
DTSTART:20220313T070000
END:DAYLIGHT
BEGIN:STANDARD
TZOFFSETFROM:-0400
TZOFFSETTO:-0500
TZNAME:EST
DTSTART:20221106T060000
END:STANDARD
END:VTIMEZONE
BEGIN:VEVENT
DTSTART;VALUE=DATE:20220506
DTEND;VALUE=DATE:20220509
DTSTAMP:20260421T063240
CREATED:20220311T204912Z
LAST-MODIFIED:20220311T204912Z
UID:6082-1651795200-1652054399@www.knowwake.com
SUMMARY:F1 Miami Grand Prix-FPC Rally
DESCRIPTION:
URL:https://www.knowwake.com/event/f1-miami-grand-prix-fpc-rally/
LOCATION:Miami\, FL\, FL
CATEGORIES:Poker Runs
ATTACH;FMTTYPE=image/png:https://www.knowwake.com/wp-content/uploads/2022/03/F1-Miami-Grand-Prix-FPC-Rally.png
ORGANIZER;CN="Florida%20Powerboat%20Club":MAILTO:jackie@flpowerboat.com
END:VEVENT
BEGIN:VEVENT
DTSTART;VALUE=DATE:20220512
DTEND;VALUE=DATE:20220516
DTSTAMP:20260421T063240
CREATED:20220311T205036Z
LAST-MODIFIED:20220311T205036Z
UID:6086-1652313600-1652659199@www.knowwake.com
SUMMARY:Orange Beach Powerboat Week
DESCRIPTION:
URL:https://www.knowwake.com/event/orange-beach-powerboat-week/
LOCATION:Orange Beach\, AL
CATEGORIES:Poker Runs
ATTACH;FMTTYPE=image/png:https://www.knowwake.com/wp-content/uploads/2022/03/orange-beach-powerboat-week.png
ORGANIZER;CN="Florida%20Powerboat%20Club":MAILTO:jackie@flpowerboat.com
END:VEVENT
BEGIN:VEVENT
DTSTART;VALUE=DATE:20220520
DTEND;VALUE=DATE:20220523
DTSTAMP:20260421T063240
CREATED:20220311T205317Z
LAST-MODIFIED:20220311T205317Z
UID:6090-1653004800-1653263999@www.knowwake.com
SUMMARY:Charleston Harbor Poker Run
DESCRIPTION:
URL:https://www.knowwake.com/event/charleston-harbor-poker-run/
LOCATION:Charleston\, SC
CATEGORIES:Poker Runs
ATTACH;FMTTYPE=image/jpeg:https://www.knowwake.com/wp-content/uploads/2022/03/charleston-harbor-poker-run.jpeg
END:VEVENT
BEGIN:VEVENT
DTSTART;VALUE=DATE:20220529
DTEND;VALUE=DATE:20220530
DTSTAMP:20260421T063240
CREATED:20220311T210330Z
LAST-MODIFIED:20220311T210330Z
UID:6098-1653782400-1653868799@www.knowwake.com
SUMMARY:2022 Memorial Day Poker Run/Fun Run
DESCRIPTION:
URL:https://www.knowwake.com/event/2022-memorial-day-poker-run-fun-run/
LOCATION:Chestertown\, MD
CATEGORIES:Poker Runs
ATTACH;FMTTYPE=image/png:https://www.knowwake.com/wp-content/uploads/2022/03/chesapeake-bay-powerboat-association.png
END:VEVENT
END:VCALENDAR