BEGIN:VCALENDAR
VERSION:2.0
PRODID:-//KnowWake - ECPv5.16.1.1//NONSGML v1.0//EN
CALSCALE:GREGORIAN
METHOD:PUBLISH
X-ORIGINAL-URL:https://www.knowwake.com
X-WR-CALDESC:Events for KnowWake
REFRESH-INTERVAL;VALUE=DURATION:PT1H
X-Robots-Tag:noindex
X-PUBLISHED-TTL:PT1H
BEGIN:VTIMEZONE
TZID:America/New_York
BEGIN:DAYLIGHT
TZOFFSETFROM:-0500
TZOFFSETTO:-0400
TZNAME:EDT
DTSTART:20220313T070000
END:DAYLIGHT
BEGIN:STANDARD
TZOFFSETFROM:-0400
TZOFFSETTO:-0500
TZNAME:EST
DTSTART:20221106T060000
END:STANDARD
END:VTIMEZONE
BEGIN:VEVENT
DTSTART;VALUE=DATE:20220520
DTEND;VALUE=DATE:20220523
DTSTAMP:20260421T082323
CREATED:20220311T205317Z
LAST-MODIFIED:20220311T205317Z
UID:6090-1653004800-1653263999@www.knowwake.com
SUMMARY:Charleston Harbor Poker Run
DESCRIPTION:
URL:https://www.knowwake.com/event/charleston-harbor-poker-run/
LOCATION:Charleston\, SC
CATEGORIES:Poker Runs
ATTACH;FMTTYPE=image/jpeg:https://www.knowwake.com/wp-content/uploads/2022/03/charleston-harbor-poker-run.jpeg
END:VEVENT
END:VCALENDAR